BEGIN:VCALENDAR
VERSION:2.0
PRODID:-//Foto - ECPv5.3.0//NONSGML v1.0//EN
CALSCALE:GREGORIAN
METHOD:PUBLISH
X-WR-CALNAME:Foto
X-ORIGINAL-URL:https://www.fotorio.fot.br
X-WR-CALDESC:Eventos para Foto
BEGIN:VTIMEZONE
TZID:America/Sao_Paulo
BEGIN:STANDARD
TZOFFSETFROM:-0300
TZOFFSETTO:-0300
TZNAME:-03
DTSTART:20210101T000000
END:STANDARD
END:VTIMEZONE
BEGIN:VEVENT
DTSTART;TZID=America/Sao_Paulo:20210524T080000
DTEND;TZID=America/Sao_Paulo:20210529T000000
DTSTAMP:20260423T090613
CREATED:20210514T230637Z
LAST-MODIFIED:20210521T131150Z
UID:2377-1621843200-1622246400@www.fotorio.fot.br
SUMMARY:Abertura da segunda etapa do FotoRio Virtual 2020
DESCRIPTION:
URL:https://www.fotorio.fot.br/event/abertura-da-segunda-etapa-do-fotorio-virtual-2020/
END:VEVENT
BEGIN:VEVENT
DTSTART;TZID=America/Sao_Paulo:20210524T180000
DTEND;TZID=America/Sao_Paulo:20210524T181500
DTSTAMP:20260423T090613
CREATED:20210514T231345Z
LAST-MODIFIED:20210514T231345Z
UID:2385-1621879200-1621880100@www.fotorio.fot.br
SUMMARY:Apresentação do festival
DESCRIPTION:
URL:https://www.fotorio.fot.br/event/apresentacao-do-festival/
END:VEVENT
BEGIN:VEVENT
DTSTART;TZID=America/Sao_Paulo:20210524T181500
DTEND;TZID=America/Sao_Paulo:20210524T203000
DTSTAMP:20260423T090613
CREATED:20210514T231517Z
LAST-MODIFIED:20210514T231517Z
UID:2388-1621880100-1621888200@www.fotorio.fot.br
SUMMARY:Apresentação das exposições
DESCRIPTION:
URL:https://www.fotorio.fot.br/event/apresentacao-das-exposicoes/
CATEGORIES:Exposições
END:VEVENT
BEGIN:VEVENT
DTSTART;TZID=America/Sao_Paulo:20210525T180000
DTEND;TZID=America/Sao_Paulo:20210525T190000
DTSTAMP:20260423T090613
CREATED:20210514T231746Z
LAST-MODIFIED:20210514T231746Z
UID:2390-1621965600-1621969200@www.fotorio.fot.br
SUMMARY:Exposição virtual “Inéditas”
DESCRIPTION:
URL:https://www.fotorio.fot.br/event/exposicao-virtual-ineditas/
CATEGORIES:Exposições
END:VEVENT
BEGIN:VEVENT
DTSTART;TZID=America/Sao_Paulo:20210525T190000
DTEND;TZID=America/Sao_Paulo:20210525T203000
DTSTAMP:20260423T090613
CREATED:20210514T234437Z
LAST-MODIFIED:20210518T144339Z
UID:2407-1621969200-1621974600@www.fotorio.fot.br
SUMMARY:Brasil Afora
DESCRIPTION:
URL:https://www.fotorio.fot.br/event/brasil-afora/
CATEGORIES:Rodas de conversas
END:VEVENT
BEGIN:VEVENT
DTSTART;TZID=America/Sao_Paulo:20210526T190000
DTEND;TZID=America/Sao_Paulo:20210526T200000
DTSTAMP:20260423T090613
CREATED:20210514T231911Z
LAST-MODIFIED:20210518T143849Z
UID:2392-1622055600-1622059200@www.fotorio.fot.br
SUMMARY:Exposição virtual “Sob o Nervo da Noite”
DESCRIPTION:
URL:https://www.fotorio.fot.br/event/exposicao-virtual-sob-o-nervo-da-noite/
CATEGORIES:Exposições
END:VEVENT
BEGIN:VEVENT
DTSTART;TZID=America/Sao_Paulo:20210526T190000
DTEND;TZID=America/Sao_Paulo:20210526T203000
DTSTAMP:20260423T090613
CREATED:20210514T234639Z
LAST-MODIFIED:20210525T115629Z
UID:2411-1622055600-1622061000@www.fotorio.fot.br
SUMMARY:Feminismos plurais e fotografia
DESCRIPTION:
URL:https://www.fotorio.fot.br/event/feminismo-fotografico/
CATEGORIES:Fóruns de debates
END:VEVENT
BEGIN:VEVENT
DTSTART;TZID=America/Sao_Paulo:20210527T110000
DTEND;TZID=America/Sao_Paulo:20210527T120000
DTSTAMP:20260423T090613
CREATED:20210514T232019Z
LAST-MODIFIED:20210518T144100Z
UID:2395-1622113200-1622116800@www.fotorio.fot.br
SUMMARY:Exposição virtual “Corpos de estilo entre Brasil e França”
DESCRIPTION:
URL:https://www.fotorio.fot.br/event/exposicao-virtual-corpos-de-estilo-entre-brasil-e-franca/
CATEGORIES:Exposições
END:VEVENT
BEGIN:VEVENT
DTSTART;TZID=America/Sao_Paulo:20210527T180000
DTEND;TZID=America/Sao_Paulo:20210527T193000
DTSTAMP:20260423T090613
CREATED:20210514T234533Z
LAST-MODIFIED:20210520T121750Z
UID:2409-1622138400-1622143800@www.fotorio.fot.br
SUMMARY:Vidas indígenas importam
DESCRIPTION:
URL:https://www.fotorio.fot.br/event/vidas-indigenas-importam/
CATEGORIES:Rodas de conversas
END:VEVENT
BEGIN:VEVENT
DTSTART;TZID=America/Sao_Paulo:20210527T193000
DTEND;TZID=America/Sao_Paulo:20210527T210000
DTSTAMP:20260423T090613
CREATED:20210514T234730Z
LAST-MODIFIED:20210525T115713Z
UID:2413-1622143800-1622149200@www.fotorio.fot.br
SUMMARY:Racismo Estrutural e Fotografia
DESCRIPTION:
URL:https://www.fotorio.fot.br/event/racismo-estrutural-e-fotografia/
CATEGORIES:Fóruns de debates
END:VEVENT
BEGIN:VEVENT
DTSTART;TZID=America/Sao_Paulo:20210528T110000
DTEND;TZID=America/Sao_Paulo:20210528T120000
DTSTAMP:20260423T090613
CREATED:20210514T232122Z
LAST-MODIFIED:20210525T115502Z
UID:2398-1622199600-1622203200@www.fotorio.fot.br
SUMMARY:COVID Latam
DESCRIPTION:
URL:https://www.fotorio.fot.br/event/covid-latam/
CATEGORIES:Exposições
END:VEVENT
BEGIN:VEVENT
DTSTART;TZID=America/Sao_Paulo:20210528T180000
DTEND;TZID=America/Sao_Paulo:20210528T190000
DTSTAMP:20260423T090613
CREATED:20210514T232231Z
LAST-MODIFIED:20210525T115532Z
UID:2400-1622224800-1622228400@www.fotorio.fot.br
SUMMARY:Exposição virtual “Porto”
DESCRIPTION:
URL:https://www.fotorio.fot.br/event/exposicao-virtual-porto/
CATEGORIES:Exposições
END:VEVENT
BEGIN:VEVENT
DTSTART;TZID=America/Sao_Paulo:20210528T190000
DTEND;TZID=America/Sao_Paulo:20210528T203000
DTSTAMP:20260423T090613
CREATED:20210514T234947Z
LAST-MODIFIED:20210514T234947Z
UID:2415-1622228400-1622233800@www.fotorio.fot.br
SUMMARY:Fotografia Latino-Americana: Estados Gerais
DESCRIPTION:
URL:https://www.fotorio.fot.br/event/fotografia-latino-americana-estados-gerais/
CATEGORIES:Fóruns de debates
END:VEVENT
BEGIN:VEVENT
DTSTART;TZID=America/Sao_Paulo:20210529T110000
DTEND;TZID=America/Sao_Paulo:20210529T123000
DTSTAMP:20260423T090613
CREATED:20210514T232343Z
LAST-MODIFIED:20210527T135002Z
UID:2403-1622286000-1622291400@www.fotorio.fot.br
SUMMARY:Homenagem aos fotógrafos
DESCRIPTION:
URL:https://www.fotorio.fot.br/event/homenagem-aos-fotografos/
CATEGORIES:Homenagens
END:VEVENT
BEGIN:VEVENT
DTSTART;TZID=America/Sao_Paulo:20210530T170000
DTEND;TZID=America/Sao_Paulo:20210530T183000
DTSTAMP:20260423T090613
CREATED:20210514T232503Z
LAST-MODIFIED:20210525T115559Z
UID:2405-1622394000-1622399400@www.fotorio.fot.br
SUMMARY:Projeção “Por dentro de um tempo em si”
DESCRIPTION:
URL:https://www.fotorio.fot.br/event/projecao-por-dentro-de-um-tempo-suspenso/
CATEGORIES:Exposições
END:VEVENT
END:VCALENDAR