BEGIN:VCALENDAR
VERSION:2.0
PRODID:-//Foto - ECPv5.3.0//NONSGML v1.0//EN
CALSCALE:GREGORIAN
METHOD:PUBLISH
X-WR-CALNAME:Foto
X-ORIGINAL-URL:https://www.fotorio.fot.br
X-WR-CALDESC:Eventos para Foto
BEGIN:VTIMEZONE
TZID:America/Sao_Paulo
BEGIN:STANDARD
TZOFFSETFROM:-0300
TZOFFSETTO:-0300
TZNAME:-03
DTSTART:20210101T000000
END:STANDARD
END:VTIMEZONE
BEGIN:VEVENT
DTSTART;TZID=America/Sao_Paulo:20210626T150000
DTEND;TZID=America/Sao_Paulo:20210626T163000
DTSTAMP:20260423T202155
CREATED:20210518T150057Z
LAST-MODIFIED:20210518T150057Z
UID:2617-1624719600-1624725000@www.fotorio.fot.br
SUMMARY:Roda de conversa “Espaços / Fronteiras dos livros de fotografia”
DESCRIPTION:Mediação de Ioana Mello com Ana Casas Broda\, Andressa Ce e Eder Ribeiro.
URL:https://www.fotorio.fot.br/event/roda-de-conversa-espacos-fronteiras-dos-livros-de-fotografia/
CATEGORIES:Fotolivros
END:VEVENT
END:VCALENDAR